BEGIN:VCALENDAR
VERSION:2.0
PRODID:-//DDAT - ECPv6.15.17//NONSGML v1.0//EN
CALSCALE:GREGORIAN
METHOD:PUBLISH
X-WR-CALNAME:DDAT
X-ORIGINAL-URL:https://ddat.org.uk
X-WR-CALDESC:Events for DDAT
REFRESH-INTERVAL;VALUE=DURATION:PT1H
X-Robots-Tag:noindex
X-PUBLISHED-TTL:PT1H
BEGIN:VTIMEZONE
TZID:Europe/London
BEGIN:DAYLIGHT
TZOFFSETFROM:+0000
TZOFFSETTO:+0100
TZNAME:BST
DTSTART:20250330T010000
END:DAYLIGHT
BEGIN:STANDARD
TZOFFSETFROM:+0100
TZOFFSETTO:+0000
TZNAME:GMT
DTSTART:20251026T010000
END:STANDARD
BEGIN:DAYLIGHT
TZOFFSETFROM:+0000
TZOFFSETTO:+0100
TZNAME:BST
DTSTART:20260329T010000
END:DAYLIGHT
BEGIN:STANDARD
TZOFFSETFROM:+0100
TZOFFSETTO:+0000
TZNAME:GMT
DTSTART:20261025T010000
END:STANDARD
BEGIN:DAYLIGHT
TZOFFSETFROM:+0000
TZOFFSETTO:+0100
TZNAME:BST
DTSTART:20270328T010000
END:DAYLIGHT
BEGIN:STANDARD
TZOFFSETFROM:+0100
TZOFFSETTO:+0000
TZNAME:GMT
DTSTART:20271031T010000
END:STANDARD
END:VTIMEZONE
BEGIN:VEVENT
DTSTART;TZID=Europe/London:20260202T133000
DTEND;TZID=Europe/London:20260202T143000
DTSTAMP:20260420T175121
CREATED:20250728T151440Z
LAST-MODIFIED:20251217T153534Z
UID:35133-1770039000-1770042600@ddat.org.uk
SUMMARY:Inclusion Strategy Meeting - Pupil Premium Leads
DESCRIPTION:This briefing to be held on Monday 2nd February 2026 and the targeted audience is Headteacher & Pupil Premium Leads \nVenue: Teams \nTime: 13.30 to 14.30 \nCosts: Free (DDAT Schools only)  \nFacilitators: Heather Hogg\, Lisa Atkins and Paul Lowther \nBooking deadline: 9am on Wednesday 28th January
URL:https://ddat.org.uk/event/inclusion-strategy-meeting/
LOCATION:TEAMS
CATEGORIES:Headteachers,SENCOs
END:VEVENT
BEGIN:VEVENT
DTSTART;TZID=Europe/London:20260202T143000
DTEND;TZID=Europe/London:20260202T153000
DTSTAMP:20260420T175121
CREATED:20251217T153443Z
LAST-MODIFIED:20260105T110411Z
UID:36683-1770042600-1770046200@ddat.org.uk
SUMMARY:Inclusion Strategy Meeting - SENDCOs
DESCRIPTION:This briefing to be held on Monday 2nd February 2026 and the targeted audience is Headteachers & SENDCO’s \nVenue: Teams \nTime: 14.30 to 15.30 \nCosts: Free (DDAT Schools only)  \nFacilitators: Heather Hogg\, Lisa Atkins and Paul Lowther \nBooking deadline: 9am on Wednesday 28th January
URL:https://ddat.org.uk/event/inclusion-strategy-meeting-sendcos/
LOCATION:TEAMS
END:VEVENT
END:VCALENDAR